BEGIN:VCALENDAR
VERSION:2.0
PRODID:SchoolNow
CALSCALE:GREGORIAN
BEGIN:VEVENT
UID:2d37f18c-dd8f-11ef-9b43-0e956362e35d
DTSTAMP:20250128T154728Z
SUMMARY:Boys Junior Varsity Soccer @ Rome Free Academy
LOCATION:RFA Grass Soccer Field
URL;VALUE=URI:https://www.uticaschools.org/departments/athletics/calendar/7
 386061/boys-junior-varsity-soccer-rome-free-academy
DTSTART:20241017T203000Z
DTEND:20241017T213000Z
END:VEVENT
END:VCALENDAR
