BEGIN:VCALENDAR
VERSION:2.0
PRODID:SchoolNow
CALSCALE:GREGORIAN
BEGIN:VEVENT
UID:2d387616-dd8f-11ef-96f9-0e956362e35d
DTSTAMP:20250128T154728Z
SUMMARY:Girls (JFK/DMS) 7th/8th Cross Country v. Whitesboro\, Rome Free Aca
 demy\, Holland Patent
LOCATION:Proctor Park
URL;VALUE=URI:https://www.uticaschools.org/departments/athletics/calendar/7
 386111/girls-jfk-dms-7th-8th-cross-country-v-whitesboro-rome-free-academy-
 holland-patent
DTSTART:20241015T200000Z
DTEND:20241015T210000Z
END:VEVENT
END:VCALENDAR
