BEGIN:VCALENDAR
VERSION:2.0
PRODID:SchoolNow
CALSCALE:GREGORIAN
BEGIN:VEVENT
UID:2ef2d05a-dd8f-11ef-9c83-0e956362e35d
DTSTAMP:20250128T154730Z
SUMMARY:POP WARNER @ PHS Stadium (Turf Field/Track) (6:00 PM)
LOCATION:PHS Stadium (Turf Field/Track)
URL;VALUE=URI:https://www.uticaschools.org/departments/athletics/calendar/7
 386486/pop-warner-phs-stadium-turf-field-track-6-00-pm
DTSTART:20241029T220000Z
DTEND:20241030T000000Z
END:VEVENT
END:VCALENDAR
