BEGIN:VCALENDAR
VERSION:2.0
PRODID:SchoolNow
CALSCALE:GREGORIAN
BEGIN:VEVENT
UID:309cab24-dd8f-11ef-b750-0e956362e35d
DTSTAMP:20250128T154733Z
SUMMARY:Boys (DMS) 7th/8th Basketball @ Central Valley Academy (Blue)
LOCATION:Gregory B. Jarvis Middle School gym
URL;VALUE=URI:https://www.uticaschools.org/departments/athletics/calendar/7
 386900/boys-dms-7th-8th-basketball-central-valley-academy-blue
DTSTART:20250123T213000Z
DTEND:20250123T223000Z
END:VEVENT
END:VCALENDAR
