BEGIN:VCALENDAR
VERSION:2.0
PRODID:SchoolNow
CALSCALE:GREGORIAN
BEGIN:VEVENT
UID:32572818-dd8f-11ef-926a-0e956362e35d
DTSTAMP:20250128T154736Z
SUMMARY:(B) V Volleyball - Practice (3:00 PM)
LOCATION:PHS AUX Gym (Volleyball gym)
URL;VALUE=URI:https://www.uticaschools.org/departments/athletics/calendar/7
 387237/b-v-volleyball-practice-3-00-pm
DTSTART:20250127T200000Z
DTEND:20250127T230000Z
END:VEVENT
END:VCALENDAR
