BEGIN:VCALENDAR
VERSION:2.0
PRODID:SchoolNow
CALSCALE:GREGORIAN
BEGIN:VEVENT
UID:2479c44e-1f1a-11f1-a835-0a58a9feac02
DTSTAMP:20260330T195547Z
SUMMARY:OHM BOCES Makeup Visitation
URL;VALUE=URI:https://www.uticaschools.org/departments/guidance-counseling-
 services/calendar/8915507/ohm-boces-makeup-visitation
DTSTART;VALUE=DATE:20260318
DTEND;VALUE=DATE:20260319
END:VEVENT
END:VCALENDAR
