BEGIN:VCALENDAR
VERSION:2.0
PRODID:SchoolNow
CALSCALE:GREGORIAN
BEGIN:VEVENT
UID:45968fb0-2e95-11f1-94c6-0afff2acc7c1
DTSTAMP:20260420T065509Z
SUMMARY:No School - Good Friday
URL;VALUE=URI:https://www.uticaschools.org/schools/king/calendar/8965528/no
 -school-good-friday
DTSTART;VALUE=DATE:20260403
DTEND;VALUE=DATE:20260404
END:VEVENT
END:VCALENDAR
