BEGIN:VCALENDAR
VERSION:2.0
PRODID:SchoolNow
CALSCALE:GREGORIAN
BEGIN:VEVENT
UID:459695b4-2e95-11f1-9d80-0afff2acc7c1
DTSTAMP:20260420T065509Z
SUMMARY:5th/6th ELA Test
URL;VALUE=URI:https://www.uticaschools.org/schools/king/calendar/8965531/5t
 h-6th-ela-test
DTSTART;VALUE=DATE:20260415
DTEND;VALUE=DATE:20260417
END:VEVENT
END:VCALENDAR
